BEGIN:VCALENDAR
VERSION:2.0
PRODID:spatie/icalendar-generator
NAME:Schützenverein Sögel
X-WR-CALNAME:Schützenverein Sögel
DESCRIPTION:Events for Schützenverein Sögel
X-WR-CALDESC:Events for Schützenverein Sögel
BEGIN:VEVENT
UID:582-1783720800-1783979940@schuetzenverein-soegel.de
DTSTAMP:20260424T155639Z
SUMMARY:Schützenfest
DESCRIPTION:Unser jährliches Schützenfest im Juli. Mehr Infos auf unserem
  Plakat
LOCATION:Am Schützenplatz 1\, Sögel\, 49751
X-MICROSOFT-CDO-ALLDAYEVENT:TRUE
URL:https://schuetzenverein-soegel.de/event/schuetzenfest/
DTSTART;VALUE=DATE:20260711
DTEND;VALUE=DATE:20260713
END:VEVENT
END:VCALENDAR